BEGIN:VCALENDAR
VERSION:2.0
PRODID:-//IP.Board Calendar 4.6.12.1//EN
METHOD:PUBLISH
CALSCALE:GREGORIAN
X-WR-CALNAME:Community Calendar
BEGIN:VTIMEZONE
TZID:Europe/London
TZURL:http://tzurl.org/zoneinfo/Europe/London
X-LIC-LOCATION:Europe/London
BEGIN:DAYLIGHT
TZOFFSETFROM:+0000
TZOFFSETTO:+0100
TZNAME:BST
DTSTART:20150329T020000Z
RRULE:FREQ=YEARLY;BYMONTH=3;BYDAY=-1SU
END:DAYLIGHT
BEGIN:STANDARD
TZOFFSETFROM:+0100
TZOFFSETTO:+0000
TZNAME:GMT
DTSTART:20151025T020000Z
RRULE:FREQ=YEARLY;BYMONTH=10;BYDAY=-1SU
END:STANDARD
END:VTIMEZONE
BEGIN:VEVENT
SUMMARY:Стартует
	 бесплатный онлайн по вязанию зайч
	ика Грустика (крючок)
DTSTAMP:20151024T081731Z
SEQUENCE:0
UID:10-1-57884a5189fd652a51871cdb478d2650@knitting-life.ru
ORGANIZER;CN="zovutka":forum@knitting-life.ru
DESCRIPTION:Зайчик ГрустикАвт
	ор и ведущая Аня Садо
	вская (zovutka)Тему 
	с онлайном можно б
	удет найти в разделе \"Бесплат
	ные авторские онлайны\"
DTSTART;VALUE=DATE:20151031
END:VEVENT
END:VCALENDAR
