BEGIN:VCALENDAR
VERSION:2.0
PRODID:-//IP.Board Calendar 4.6.12.1//EN
METHOD:PUBLISH
CALSCALE:GREGORIAN
X-WR-CALNAME:Community Calendar
BEGIN:VTIMEZONE
TZID:Europe/London
TZURL:http://tzurl.org/zoneinfo/Europe/London
X-LIC-LOCATION:Europe/London
BEGIN:DAYLIGHT
TZOFFSETFROM:+0000
TZOFFSETTO:+0100
TZNAME:BST
DTSTART:20160327T020000Z
RRULE:FREQ=YEARLY;BYMONTH=3;BYDAY=-1SU
END:DAYLIGHT
BEGIN:STANDARD
TZOFFSETFROM:+0100
TZOFFSETTO:+0000
TZNAME:GMT
DTSTART:20161030T020000Z
RRULE:FREQ=YEARLY;BYMONTH=10;BYDAY=-1SU
END:STANDARD
END:VTIMEZONE
BEGIN:VEVENT
SUMMARY:Стартует платный 
	онлайн по вязанию спицами зайки Ляльки
DTSTAMP:20160223T182201Z
SEQUENCE:0
UID:18-1-57884a5189fd652a51871cdb478d2650@knitting-life.ru
ORGANIZER;CN="zovutka":forum@knitting-life.ru
DESCRIPTION:\n	Зайка Лялька (спи
	цы)\n\n\n\n	Автор и ведущая Людмила Гу
	дас (@mamma)\n\n\n\n	\n\n\n	Опл
	атившие участ
	ие в онлайне н
	айдут тему с
	 онлайном в \"Секретном разделе\
	" в открывшейся Тайной комнате\n
DTSTART;VALUE=DATE:20160309
END:VEVENT
END:VCALENDAR
