BEGIN:VCALENDAR
VERSION:2.0
PRODID:-//IP.Board Calendar 4.6.12.1//EN
METHOD:PUBLISH
CALSCALE:GREGORIAN
X-WR-CALNAME:Community Calendar
BEGIN:VTIMEZONE
TZID:Europe/London
TZURL:http://tzurl.org/zoneinfo/Europe/London
X-LIC-LOCATION:Europe/London
BEGIN:DAYLIGHT
TZOFFSETFROM:+0000
TZOFFSETTO:+0100
TZNAME:BST
DTSTART:20260329T020000Z
RRULE:FREQ=YEARLY;BYMONTH=3;BYDAY=-1SU
END:DAYLIGHT
BEGIN:STANDARD
TZOFFSETFROM:+0100
TZOFFSETTO:+0000
TZNAME:GMT
DTSTART:20261025T020000Z
RRULE:FREQ=YEARLY;BYMONTH=10;BYDAY=-1SU
END:STANDARD
END:VTIMEZONE
BEGIN:VEVENT
SUMMARY:Стартует платный онлайн \"Вениа
	мин и подружки\"
DTSTAMP:20260228T044345Z
SEQUENCE:0
UID:211-1-57884a5189fd652a51871cdb478d2650@knitting-life.ru
ORGANIZER;CN="zovutka":forum@knitting-life.ru
DESCRIPTION:\n	 \n\n\n\n	Вениамин и подружки 
	(крючок)\n\n\n\n	\n\n\n	Автор - Анна Садов
	ская (@zovutka)\n\n\n\n	Стоимость уча
	стия в онлайне - 550
	 рублей\n\n\n\n	Билетики на онл
	айн приобретайте ЗДЕСЬ\n\n\n\n	 \n\n\n\n	 \n\n
DTSTART;VALUE=DATE:20260314
END:VEVENT
END:VCALENDAR
